Workbook

Sheet Listados
A1: PROCESOS | B1: ÁREAS | C1: RESPONSABLE | D1: TIPO DE INDICADOR | F1: Cumple
A2: Direccionamiento Estratégico y Planeación | B2: Oficina Asesora de Planeación | C2: Jefe Oficina Asesora de Planeación | D2: Eficiencia | E2: Este tipo de indicadores pretenden medir la relación existente entre el avance en el logro de un determinado objetivo y los recursos empleados para la consecución de este | F2: Si
A3: Articulación y Cooperación Interinstitucional | B3: Oficina Asesora Jurídica | C3: Jefe Oficina Asesora Jurídica | D3: Eficacia | E3: determinar el nivel de cumplimiento de los objetivos específicos respecto a las metas establecidas previamente | F3: No
A4: Gestión del Patrimonio Arqueológico | B4: Oficina de Control Interno | C4: Jefe Oficina de Control Interno | D4: Efectividad | E4: detallan propiamente los efectos reales del accionar del proceso sobre sus usuarios; en particular cómo el logro de lo propuesto contribuye a resolver sus necesidades Ej. Satisfacción) | F4: No se midió
A5: Investigación y Publicación | B5: Oficina de Control Disciplinario Interno | C5: Jefe Oficina de Control Interno Disciplinario | D5: Estadística | F5: Medición inadecuada
A6: Participación, Diálogo Social y Relacionamiento con el Ciudadano | B6: Subdirección de Gestión del Patrimonio | F6: En avance
A7: Gestión Jurídica | B7: Área funcional de Tecnologías aplicadas al Patrimonio y Patrimonio Cultural Sumergido | C7: Coordinador del Grupo Financiero
A8: Gestión Financiera | B8: Grupo de Arqueología | C8: Coordinar Área de TI
A9: Gestión Contractual | B9: Grupo de Patrimonio | C9: Coordinador de Gestión Documental y Correspondencia
A10: Gestión Administrativa y Logística | B10: Subdirección de Investigación y Producción Científica | C10: Coordinador de Talento Humano
A11: Gestión Documental y Correspondencia | B11: Área Funcional de Publicaciones | C11: Subdirector de apropiación y relacionamiento con el ciudadano
A12: Comunicaciones | B12: Área Funcional de Librería | C12: Subdirector de Investigación y Producción Científica
A13: Talento y Desarrollo Humano | B13: Área Funcional de Investigación Arqueológica | C13: Subdirector de Gestión del Patrimonio
A14: Gestión de Tecnologías de la Información | B14: Grupo de Investigación | C14: Director General
A15: Control Disciplinario | B15: Subdirección de Apropiación Social y Relacionamiento con el Ciudadano. | C15: Secretaria General
A16: Mejoramiento Continuo | B16: Comunicaciones
A17: Evaluación y Control | B17: Área de Biblioteca Especializada
B18: Área Funcional de Museografía
B19: Área Funcional de Relacionamiento con el Ciudadano
B20: Área Funcional de Talento Humano
B21: Área de Correspondencia
B22: Área de Gestión Documental
B23: Área Funcional de Tecnologías y Sistemas de Información
B24: Área Funcional Presupuesto
B25: Área Funcional de Almacén
B26: Área Funcional De Tesorería
B27: Área Funcional de Contabilidad
B28: Área Funcional de Gestión de Contratos y Convenios
B29: Grupo Financiero
... B32: Área Funcional de Talento Humano - SST

Sheet Estadística a marzo
A1: PROCESO | B1: No. INDICADORES | C1: OPORTUNIDAD | D1: CALIDAD | E1: SATISFACCIÓN | F1: EFICACIA | G1: EFICIENCIA | H1: EFECTIVIDAD | I1: MEDICIÓN 2022 | J1: OBSERVACIÓN
A2: DIRECCIONAMIENTO ESTRATEGIO Y PLANEACION | B2: =SUM(C2:H2) -> 3 | C2: 1 | F2: 1 | H2: 1 | I2: AGENDADA
A3: GESTIÓN DE TECNOLOGÍAS DE LA INFORMACIÓN | B3: =SUM(C3:H3) -> 3 | C3: 1 | F3: 2 | I3: PENDIENTE
A4: COMUNICACIONES | B4: =SUM(C4:H4) -> 3 | C4: 1 | E4: 2 | I4: AGENDADA
A5: INVESTIGACIÓN Y DIVULGACIÓN | B5: =SUM(C5:H5) -> 3 | F5: 3 | I5: AGENDADA
A6: GESTIÓN DEL PATRIMONIO ARQUEOLÓGICO | B6: =SUM(C6:H6) -> 2 | F6: 1 | G6: 1 | I6: AGENDADA
A7: GESTIÓN DEL TALENTO HUMANO | B7: =SUM(C7:H7) -> 8 | C7: 3 | E7: 2 | F7: 3 | I7: EJECUTADA
A8: GESTIÓN JURÍDICA | B8: =SUM(C8:H8) -> 3 | F8: 2 | H8: 1 | I8: AGENDADA
A9: GESTIÓN DOCUMENTAL Y CORRESPONDENCIA | B9: =SUM(C9:H9) -> 2 | F9: 2 | I9: EJECUTADA
A10: PARTICIPACIÓN, DIÁLOGO SOCIAL Y RELACIONAMIENTO CON EL CIUDADANO | B10: =SUM(C10:H10) -> 6 | F10: 6 | I10: EJECUTADA
A11: GESTIÓN FINANCIERA | B11: =SUM(C11:H11) -> 5 | F11: 4 | H11: 1 | I11: AGENDADA
A12: EVALUACIÓN Y CONTROL | B12: =SUM(C12:H12) -> 2 | C12: 1 | H12: 1 | I12: AGENDADA
A13: CONTROL DISCIPLINARIO | B13: =SUM(C13:H13) -> 2 | C13: 1 | E13: 1 | I13: EJECUTADA
A14: MEJORAMIENTO CONTÍNUO | B14: =SUM(C14:H14) -> 2 | F14: 2 | I14: AGENDADA
A15: GESTIÓN DE CONTRACTUAL | B15: =SUM(C15:H15) -> 2 | F15: 2 | I15: PENDIENTE
A16: COOPERACIÓN Y ARTICULACIÓN INTERINSTITUCIONAL | B16: =SUM(C16:H16) -> 2 | F16: 1 | H16: 1 | I16: AGENDADA
A17: GESTIÓN ADMINISTRATIVA Y LOGÍSTICA | B17: =SUM(C17:H17) -> 7 | F17: 6 | G17: 1 | I17: EJECUTADA | J17: Pendiente aprobación de la propuesta entregada
A18: TOTAL | B18: =SUM(B2:B17) -> 55 | C18: =SUM(C2:C17) -> 8 | D18: =SUM(D2:D17) -> 0 | E18: =SUM(E2:E17) -> 5 | F18: =SUM(F2:F17) -> 35 | H18: =SUM(H2:H17) -> 5
A21: AGENDADA
A22: EJECUTADA
A23: PENDIENTE

Sheet Base de datos Indicadores ICANH
A1: MATRIZ DE INDICADORES DE GESTIÓN ICANH AÑO 2023 | K1: MEDICIÓN DEL INDICADOR (RESULTADO) Segundo semestre del 2022 | X1: SEGUIMIENTO Y ANÁLISIS LÍDER DE PROCESO O DELEGADO | AA1: OFICINA ASESORA DE PLANEACIÓN
A2: PROCESO | B2: AREA RESPONSABLE | C2: NOMBRE DEL INDICADOR | D2: OBJETIVO DEL INDICADOR | E2: TIPO DE INDICADOR | F2: FÓRMULA | G2: UNIDAD DE MEDIDA | H2: FRECUENCIA DE MEDICIÓN | I2: META | J2: FUENTE | K2: Enero | L2: Febrero | M2: Marzo | N2: Abril | O2: Mayo | P2: Junio | Q2: Julio | R2: Agosto | S2: Septiembre | T2: Octubre | U2: Noviembre | V2: Diciembre | W2: RUTA DE EVIDENCIA | X2: Cumple la meta establecida | Y2: Fecha del seguimiento | Z2: Observaciones | AA2: Observaciones
A3: Direccionamiento Estratégico y Planeación | B3: Oficina Asesora de Planeación | C3: Oportunidad en la formulación de planes estratégicos. | D3: Medir la formulación oportuna de los planes, programas y proyectos, para propender por el cumplimiento eficiente de los objetivos institucionales, sectoriales y metas de gobierno. | E3: Eficacia | F3: (No. planes formulados a tiempo* / total de planes establecidos) x 100 | G3: PORCENTAJE | H3: Trimestral | I3: > 95% SOBRESALIENTE > 90% ACEPTABLE | J3: Matriz de publicacion de planes institucionales | M3: 0.79 | W3: https://docs.google.com/spreadsheets/d/1Zd34V0rBk4bCmZO_tuUeBOaoJexPoWVU/edit#gid=366280517 | X3: No | Y3: 45026 | Z3: Tres (3) planes de 14 planes en total no se publicaron dentro de los tiempos establecidos: Plan Institucional de Capacitación - PIC, Plan de Bienestar e Incentivos Institucionales y Plan de Tratamiento de Riesgos de Seguridad y Privacidad de la Información. Se propone realizar un seguimiento más oportuno desde la formulación, implementación y publicación de los planes.
A4: Direccionamiento Estratégico y Planeación | B4: Oficina Asesora de Planeación | C4: Eficacia en la implementación de los planes institucionales | D4: Medir el cumplimiento de los planes institucionales a cargo de la OAP que permiten el direccionamiento estratégico institucional , para propender por el cumplimiento eficiente de los objetivos institucionales, sectoriales y metas de gobierno. | E4: Eficacia | F4: (# de planes ejecutados dentro del tiempo definido/total de planes formulados) x 100 | G4: PORCENTAJE | H4: Cuatrimestral | I4: > 95% SOBRESALIENTE > 90% ACEPTABLE ≤ 90% DEFICIENTE | J4: Cumplimiento planes OAP | N4: 0.14563333 | W4: https://docs.google.com/spreadsheets/d/1g0vmVi2WRSm-a63yiYq_GFkgmCfAjv1y/edit#gid=1397510375 | Y4: 45069 | Z4: Se cuenta con un promedio de ejecución de los planes de 14,56%. Se propone realizar fichas de indicadores de cada actividad y proyectar la ejecución de cada linea
A5: Direccionamiento Estratégico y Planeación | B5: Oficina Asesora de Planeación | C5: Cumplimiento de la ejecución presupuestal | D5: Medir la capacidad institucional para comprometer y recibir los productos final oportunamente y asi propender por el cumplimiento eficiente de los objetivos institucionales, sectoriales y metas de gobierno. | E5: Eficacia | F5: (Recursos comprometidos / recursos apropiados*) x 100 por línea de inversión. | G5: PORCENTAJE | H5: Semestral | I5: ≥ 85% para inversión | J5: Reporte SIIF
A6: Direccionamiento Estratégico y Planeación | B6: Oficina Asesora de Planeación | C6: Cumplimiento de la ejecución presupuestal | D6: Medir la capacidad institucional para comprometer y recibir los productos final oportunamente y asi propender por el cumplimiento eficiente de los objetivos institucionales, sectoriales y metas de gobierno. | E6: Eficacia | F6: (Recursos obligados / recursos apropiados*) x 100 línea de funcionamiento. | G6: PORCENTAJE | H6: Semestral | I6: ≥ 98 % para funcionamiento | J6: Reporte SIIF
A7: Articulación y Cooperación Interinstitucional | B7: Dirección General | C7: Oportunidad en la ejecución de las actividades planteadas para la cooperación | D7: Determinar la oportunidad de la acciones planteadas para realizar actividades de cooperación en la entidad. | E7: Eficacia | F7: (#actividades ejecutadas dentro de los tiempos definidos / total de actividades) x 100 | G7: PORCENTAJE | H7: Semestral | I7: ≥ 90% SOBRESALIENTE > 85% ACEPTABLE ≤ 70% DEFICIENTE | J7: Plan estrategico Objetivo 4 indicador 1 y 2
A8: Articulación y Cooperación Interinstitucional | B8: Dirección General | C8: Cobertura temática de la cooperación | D8: Determinar la cobertura de las acciones de cooperación formalizadas frente a las temáticas requeridas por la entidad. | E8: Efectividad | F8: (Temáticas abordadas en la alianza o cooperación / total de temáticas institucionales) x 100 | G8: PORCENTAJE | H8: Anual | I8: ≥ 90% SOBRESALIENTE > 85% ACEPTABLE ≤ 70% DEFICIENTE | J8: Evidencias del reporte de Plan estrategico Objetivo 4 indicador 1 y 2
A9: Mejoramiento Continuo | B9: Oficina Asesora de Planeación | C9: Desempeño Institucional | D9: Determinar el grado de cumplimiento de la entidad frente a los requisitos establecidos por el MIPG. | E9: Eficacia | F9: (Puntaje obtenido en FURAG vigencia actual - Puntaje obtenido en FURAG vigencia anterior) | G9: PORCENTAJE | H9: Anual | I9: ≥0 | J9: Resultados FURAG 2020/2021
A10: Mejoramiento Continuo | B10: Oficina Asesora de Planeación | C10: Eficacia del Sistema de Gestión | D10: Establecer el aporte de los planes de mejora a las políticas de MIPG. | E10: Eficacia | F10: (# políticas que se mantuvieron o mejoraron en la vigencia/ total de políticas de la vigencia) x 100 | G10: PORCENTAJE | H10: Anual | I10: ≥ 90% SOBRESALIENTE > 85% ACEPTABLE ≤ 70% DEFICIENTE | J10: Resultados FURAG 2021
A11: Comunicaciones | B11: Subdirección de Apropiación Social y Relacionamiento con el Ciudadano. | C11: Oportunidad en la atención a los requerimientos recibidos | D11: Gestionar la comunicación interna y externa de la entidad de manera oportuna de forma que permita la proyección y el posicionamiento de la imagen institucional. | E11: Eficacia | F11: (# de requerimientos con respuesta dentro de los tiempos establecidos*/ total de requerimientos del período) x 100 por tipo de requerimiento *Tiempos establecidos por el proceso en el procedimiento de | G11: PORCENTAJE | H11: Trimestral | I11: ≥ 85% SOBRESALIENTE > 75% ACEPTABLE | J11: Formulario de solicitudes | M11: 85 | P11: 85 | Y11: 45166 | Z11: De las actividades solicitadas, por el formulario en reuniones y otros espacios se ha entregado el 100% de 59 solicitudes se han cumplido con la entrega de todas y se reporta 91 solicitudes adicionales, en publicaciones en redes sociales se ha aumentado la divulgación paulatinamente como quedan en los informes: FORMULARIO DE SOLICITUDES: https://docs.google.com/spreadsheets/d/1aPgQ_Ql4qkoBTTPDnMsoZ4xvXOzTS8mOuZTYKEdAIjs/edit?usp=sharing FORMULARIO DE PUBLICACIONES EN LA PÁGINA: https://docs.google.com/spreadsheets/d/1zl9r9p4RW4mC98o2D-UuCr09zJ3D6Cx70_0VC9zqeus/edit?usp=sharing ACUMULADO DE ACTIVIDADES: https://docs.google.com/spreadsheets/d/1tHlojnjOGlcYkAgXmAYy1tuiYmIOqkow/edit?usp=sharing&ouid=114662844445812194962&rtpof=true&sd=true
A12: Comunicaciones | B12: Subdirección de Apropiación Social y Relacionamiento con el Ciudadano. | C12: Alcance de las publicaciones en la sede electrónica. | D12: Mantener o aumentar el número de visitas en la sede electrónica. | E12: Efectividad | F12: # visitantes del periodo anterior - # visitantes del periodo evaluado | G12: VALOR ABSOLUTO | H12: Cuatrimestral | I12: ≥1 | J12: Analítica web | N12: 5461 | W12: https://drive.google.com/file/d/1AgCnvPHVFqnjvv0lkQgD5ozuTy5lX7Wd/view?usp=sharing | X12: Si | Y12: 45056 | Z12: Se entrega el informe de las estadisticas de la sede electrónica: https://drive.google.com/file/d/1AgCnvPHVFqnjvv0lkQgD5ozuTy5lX7Wd/view?usp=sharing
A13: Comunicaciones | B13: Subdirección de Apropiación Social y Relacionamiento con el Ciudadano. | C13: Calidad en las solicitudes de comunicaciones atendidas | D13: Conocer la satisfacción de los usarios internos que solicitan apoyo de comunicaciones. | E13: Efectividad | F13: (# de respuestas positivas dentro del rango establecido / total de respuestas) x 100 por tipo de plataforma | G13: PORCENTAJE | H13: Semestral | I13: ≥ 85% SOBRESALIENTE > 75% ACEPTABLE ≤ 75% DEFICIENTE | J13: Encuestas de satisfacción | Y13: 45166 | Z13: Se está desarrollando la encuesta de satisfacción que los resultados se terminarán de recoger el 15 de septiembre en este enlace:https://es.surveymonkey.com/r/F7B6FD2
A14: Gestión de Tecnologías de la Información | B14: Área Funcional de Tecnologías y Sistemas de Información | C14: Implementación y gestión del PETIC | D14: Cumplir con las actividades propuestas para el logro de los dominios de la estrategia de gobierno digital. | E14: Eficacia | F14: (# actividades cumplidas / # actividades planeadas) x 100 | G14: PORCENTAJE | H14: Anual | I14: ≥ 85% SOBRESALIENTE > 75% ACEPTABLE ≤ 75% DEFICIENTE | J14: Documento de seguimiento PETIC
A15: Gestión de Tecnologías de la Información | B15: Área Funcional de Tecnologías y Sistemas de Información | C15: Funcionamiento efectivo de las plataformas y sistemas de información | D15: Establecer para el Instituto Colombiano de Antropología e Historia los parámetros para la gestión, administración y gobernanza de los servicios de información en alineación con los objetivos institucionales y la adopción del marco legal, con el fin de facilitar el acceso, uso eficiente y seguro de la infraestructura tecnológica de la entidad. | E15: Eficacia | F15: (# horas en funcionamiento mensuales (720 horas)/# de horas de indisponibilidad)*100 de cada plataforma o sistema de información | G15: PORCENTAJE | H15: Mensual | I15: ≥ 94% SOBRESALIENTE > 85% ACEPTABLE | J15: Registro de incidentes para el periodo 2022 | K15: 0 | L15: 0.055555556 | M15: 0.018518519 | N15: 0.096296296 | W15: https://docs.google.com/spreadsheets/d/1COtz9_2zqQdF_xo8WqTLhKybC9Ttg8LM/edit?usp=sharing&ouid=102862204961050268111&rtpof=true&sd=true
A16: Participación, Diálogo Social y Relacionamiento con el Ciudadano | B16: Área de Biblioteca Especializada | C16: Volumen de consultas | D16: Medir la gestión en el préstamo bibliotecario | E16: Eficacia | F16: (Cantidad de solicitudes de material bibliográfico atendidas en la Biblioteca especializada durante el día/ Total de solicitudes de material por día) x 100 *Consolidado por mes. | G16: PORCENTAJE | H16: Trimestral | I16: ≥ 85% SOBRESALIENTE > 75% ACEPTABLE | J16: * Estadística diaria de atención presencial. * Estadística de solicitudes atendidas por correo electrónico. * Aplicativo que informa el número de préstamos atendidos.
A17: Participación, Diálogo Social y Relacionamiento con el Ciudadano | B17: Área de Biblioteca Especializada | C17: Satisfacción del servicio de biblioteca especializada | D17: Medir la satisfacción en la prestación del servicio de la biblioteca especializada. | E17: Efectividad | F17: (# respuestas dentro del rango satisfactorio / total encuestas realizadas) x 100 | G17: PORCENTAJE | H17: Trimestral | I17: ≥ 85% SOBRESALIENTE > 75% ACEPTABLE | J17: Formulario de encuesta
A18: Participación, Diálogo Social y Relacionamiento con el Ciudadano | B18: Área Funcional de Relacionamiento con el Ciudadano | C18: Oportunidad en la atención al ciudadano (PQRSDF) | D18: Garantizar la oportunidad en la respuesta de las PQRSDF realizadas por la ciudadania. | E18: Eficacia | F18: (# de PQRSDF con respuesta dentro de los tiempos establecidos*/ total de PQRSDF del período) x 100 *Tiempos de respuesta legales/reglamentarios *Tiempos establecidos por la entidad. | G18: PORCENTAJE | H18: Trimestral con seguimiento semestral | I18: ≥ 85% SOBRESALIENTE > 70% ACEPTABLE | J18: Sistema de Gestión Documental Base de datos de PQRSDF | M18: 0.964 | W18: https://www.icanh.gov.co/recursos_user/Informe_PQRSDF_primer_trimestre_2023.pdf
A19: Participación, Diálogo Social y Relacionamiento con el Ciudadano | B19: Área Funcional de Relacionamiento con el Ciudadano | C19: Satisfacción de los grupos de valor e interés en la atención a servicios. | D19: Medir la satisfacción por parte de los usuarios en temas de servicio. | E19: Efectividad | F19: (# de respuestas positivas dadas en la encuesta de satisfacción del manejo de trámites y servicios / total de respuestas) x 100 | G19: PORCENTAJE | H19: Anual con seguimiento semestral | I19: ≥ 80% SOBRESALIENTE > 65% ACEPTABLE ≤ 65% DEFICIENTE | J19: Encuesta de percepción a la ciudadana de trámites y servivios
A20: Participación, Diálogo Social y Relacionamiento con el Ciudadano | B20: Área Funcional de Relacionamiento con el Ciudadano | C20: Satisfacción de los grupos de valor e interés en los espacios de participación ejecutados (agilicen, simplifiquen y flexibilicen) | D20: Incentivar espacios de participacion que promuevan la satisfacción de los grupos de valor. | E20: Efectividad | F20: (# de respuestas positivas dadas en los espacios de participacion / total de respuestas de los espacios de participación) x 100 * Por espacio de participación seleccionados. | G20: PORCENTAJE | H20: Anual con seguimiento semestral | I20: ≥ 80% SOBRESALIENTE > 65% ACEPTABLE ≤ 65% DEFICIENTE | J20: Encuesta de evaluación del ejercicio de rendición de cuentas
A21: Gestión del Patrimonio Arqueológico | B21: Grupo de Arqueología | C21: Hallazgos fortuitos | D21: Medir gestión del área frente los reportes de hallazgos fortuitos o casos de afectación del patrimonio arqueológico | E21: Eficacia | F21: (Cantidad de acciones realizadas oportunamente/ Cantidad de reportes de hallazgos fortuitos) x 100 | G21: PORCENTAJE | H21: Mensual con análisis Semestral | I21: ≥ 85% SOBRESALIENTE > 70% ACEPTABLE ≤ 70% DEFICIENTE | J21: Base de datos de hallazgos fortuitos | K21: 0.1 | L21: 0.286 | M21: 0.238 | N21: 0.241 | O21: 0.6 | P21: 0.457 | Q21: 0.702 | R21: 0.805 | S21: 1 | T21: 0.895 | U21: 1 | W21: https://drive.google.com/drive/folders/1Fa1OWJ5HfNoJRvxiUoBis7C2YEbReKTG | Z21: El porcentaje fue aceptable, mostrando una mejora con respecto al segundo semestre de 2022 (67,2%), aunque el porcentaje se vio afectado por demoras en la contratación de los profesionales encargados de atender los reportes de hallazgos fortuitos y denuncias de afectación al patrimonio.
A22: Gestión del Patrimonio Arqueológico | B22: Grupo de Arqueología | C22: Programa de Arqueologia Preventiva. | D22: Determinar la capacidad de respuesta del área frente a la solicitud realizada. | E22: Eficacia | F22: Días transcurridos entre la asignación de la solicitud al evaluador y la notificación de respuesta. (midiendo el tiempo que la Oficina Asesora Jurídica se demora en responder) | G22: DÍAS HÁBILES | H22: Mensual con análisis Semestral | I22: 15 días | J22: Formularios PAP | K22: 11 | L22: 16.2 | M22: 19.3 | N22: 16.2 | O22: 16.8 | P22: 16.4 | Q22: 16 | R22: 12.4 | S22: 14.2 | T22: 16 | U22: 16.8 | W22: https://drive.google.com/drive/folders/1Fa1OWJ5HfNoJRvxiUoBis7C2YEbReKTG | Z22: Los días hábiles indicados (13,9 en promedio), corresponden a la duración de la totalidad del trámite de la solicitud, es decir, desde que fue radicada ante el ICANH hasta que se notificó su respuesta. Los tiempos de respuesta no solo dependen del grupo de arqueología, ya que en el proceso participa la OAJ y el Subdirector de Gestión del Patrimonio. En la medición no se excluyeron los trámites para las cuales se informó al solicitante que nos tomariamos 15 días hábiles adicionales, de conformidad con lo previsto en el CPACA.
A23: Investigación y Publicación | B23: Área Funcional de Publicaciones | C23: Publicaciones Finalizadas. | D23: Medir la productividad editorial del Instituto. | E23: Eficacia | F23: (Cantidad de publicaciones finalizadas / Cantidad de publicaciones planeadas)X 100 | G23: PORCENTAJE | H23: Semestral | I23: ≥ 80% SOBRESALIENTE > 70% ACEPTABLE
A24: Investigación y Publicación | B24: Área Funcional de Publicaciones | C24: Calidad de los manuscritos recibidos | D24: Medir la calidad de los manuscritos recibidos para garantizar los estándares del catálogo editorial del ICANH. | E24: Eficacia | F24: (Número de manuscritos aprobados (word) / Número de manuscritos recibidos en la vigencia) x100% | G24: PORCENTAJE | H24: Anual con seguimiento semestral | I24: ≥ 80% SOBRESALIENTE > 70% ACEPTABLE
A25: Investigación y Publicación | B25: Área Funcional de Publicaciones | C25: Gestión del Plan Editorial | D25: Medir la gestión editorial en términos de tiempos de respuesta dentro del plan editorial de la vigencia. | E25: Eficacia | F25: (Número de libros impresos o ingresados a OMP / libros planeados en la vigencia) x 100 | G25: Porcentaje | H25: Mensual | I25: Anual ≥ 80% SOBRESALIENTE > 70% ACEPTABLE | J25: Actas del Comité Editorial y Plan de acción Institucional. | K25: 0 | L25: 0.0833 | M25: 0.25 | N25: 37.5% | W25: https://drive.google.com/drive/folders/15egmds8rIg7wIpQomBDDsPEuOGf7Ie3p | Y25: 45037 | Z25: La oficina cumple y reporta mensualmente los avances de las publicaciones en OMP. Así en la meta propuesta de 24 obras posibles se establece un avance para el mes de abril de 9 obras, es decir, un 37,5% para el primer trimestre de 2023.
A26: Investigación y Publicación | B26: Área Funcional de Publicaciones | C26: Distribución y visibilidad de la Librería | D26: Medir la eficacia del canal propio de distribución editorial | E26: Eficacia | F26: (Número de ventas en la librería/ Número de ejemplares ingresados al almacén) x 100 | G26: Porcentaje | H26: Anual con seguimiento semestral | I26: ≥ 80% SOBRESALIENTE > 70% ACEPTABLE ≤ 50% DEFICIENTE
A27: Investigación y Publicación | B27: Área Funcional de Publicaciones | C27: Ventas realizadas en los eventos feriales | D27: Establecer el porcentaje de ventas de los ejemplares que se llevan a los diferentes eventos feriales en los que participa el ICANH. | E27: Eficacia | F27: (Número de ejemplares llevados a eventos feriales / Número de ventas) x 100 | G27: Porcentaje | H27: Anual con seguimiento semestral | I27: ≥ 80% SOBRESALIENTE > 70% ACEPTABLE ≤ 50% DEFICIENTE
A28: Investigación y Publicación | B28: Grupo de Investigación | C28: Acogida de las investigaciones y publicaciones del ICANH | D28: Medir el factor de acogida de las investigaciones y publicaciones realizadas por el ICANH en al menos uno de los medios de comunicación oficiales. | E28: Efectividad | F28: (# eventos realizados con visitas esperadas*/ total de eventos realizados) x 100 en el canal YOUTUBE. * Promedio de visualizaciones | G28: PORCENTAJE | H28: Anual Seguimiento semestral | I28: ≥ 80% SOBRESALIENTE > 70% ACEPTABLE ≤ 50% DEFICIENTE | J28: Estadística de visualizaciones por evento en el canal YOUTUBE.
A29: Talento y Desarrollo Humano | B29: Área Funcional de Talento Humano | C29: Satisfacción en el plan de bienestar. | D29: Establecer la satisfacción en las actividades del plan bienestar. | E29: Efectividad | F29: (Cantidad de encuestas con calificación satisfactoria / Total encuestas realizadas)*100 Por cada plan (bienestar) | G29: PORCENTAJE | H29: Anual Seguimiento semestral | I29: ≥ 80% | J29: Formulario de asistencia y encuesta de satisfacción | K29: Formulario de asistencia y encuesta de satisfacción | L29: 0 | M29: 1 | N29: 0 | W29: https://drive.google.com/drive/folders/1qoTIcb2U1B8ov0F4_gpM6dH014ojCwxu?usp=share_link | Z29: Durante el trimestre solicitado no se realizaron encuestas de satisfacción
A30: Talento y Desarrollo Humano | B30: Área Funcional de Talento Humano | C30: Satisfacción en el plan de capacitación. | D30: Establecer la satisfacción en las actividades del plan de capacitación. | E30: Efectividad | F30: (Cantidad de encuestas con calificación satisfactoria / Total encuestas realizadas)*100 Por cada plan (capacitación) | G30: PORCENTAJE | H30: Anual Seguimiento semestral | I30: ≥ 80% | J30: Formulario de encuesta de satisfacción a las capacitaciones recibidas. | K30: Formulario de encuesta de satisfacción a las capacitaciones recibidas. | L30: 0 | M30: 0 | N30: 0 | W30: No Aplica | Z30: Durante el primer trimestre no se presentaron novedades respecto a errores en las liquidaciones de la nómina.
A31: Talento y Desarrollo Humano | B31: Área Funcional de Talento Humano | C31: Calidad en la liquidación de la nómina de la entidad. | D31: Establecer el número de novedades en un peridoso para determinar acciones correctivas con el fin de estabilizar el proceso de liquidación de nómina. | E31: Eficacia | F31: (# de liquidaciones sin novedades o errores / Total de liquidaciones de nómina) x 100 | G31: PORCENTAJE | H31: Anual Seguimiento semestral | I31: ≥ 90% | J31: Correos con la novedad | K31: 0 | L31: 0 | M31: 0 | W31: https://drive.google.com/drive/folders/1ci6RcufTdvYtFsWZWaCdZOtVN1T6Q-QU
A32: Talento y Desarrollo Humano | B32: Área Funcional de Talento Humano - SST | C32: Frecuencia de la accidentalidad | D32: Conocer cuántos accidentes de trabajo se presentaron por cada cien (100) trabajadores que laboraron en el mes con el fin de para establecer una línea base y tomar las medidas necesarias parapara establecer una línea base y para evaluar la mejora continua en el sistema. | E32: Eficacia | F32: (Número de accidentes de trabajo que se presentaron en el mes / Número de trabajadores en el mes) * 100 | G32: PORCENTAJE | H32: Mensual | I32: 0 | J32: Caracterización de accidentalidad | K32: 0 | L32: 0.004 | M32: 0 | W32: https://docs.google.com/spreadsheets/d/1l6nGJpPwax9d347maDYOdF-8giCUxbyn/edit?usp=drive_web&ouid=110331003666022470321&rtpof=true
A33: Talento y Desarrollo Humano | B33: Área Funcional de Talento Humano - SST | C33: Severidad de la accidentalidad | D33: Conocer cuántos días de trabajo se perdieron por accidentes de trabajopor por cada cien (100) trabajadores que laboraron en el mes con el fin de para establecer una línea base y tomar las medidas necesarias para evaluar la mejora continua en el sistema. | E33: Eficacia | F33: (Número de días de incapacidad por accidente de trabajo en el mes + número de días cargados (capacidad laboral) en el mes / Número de trabajadores en el mes) * 100 | G33: PORCENTAJE | H33: Mensual | I33: 0 | J33: Caracterización de accidentalidad | K33: 0 | L33: 0.0001 | M33: 0 | W33: https://docs.google.com/spreadsheets/d/1l6nGJpPwax9d347maDYOdF-8giCUxbyn/edit?usp=drive_web&ouid=110331003666022470321&rtpof=true
A34: Talento y Desarrollo Humano | B34: Área Funcional de Talento Humano - SST | C34: Proporción de accidentes mortales | D34: Conocer en el año el % de accidentes de trabajo que fueron mortales con el fin de establecer una línea base y tomar las medidas necesarias para evaluar la mejora continua en el sistema. | E34: Eficacia | F34: (Número de accidentes de trabajo mortales que se presentaron en el año / Total de accidentes de trabajo que se presentaron en el año ) * 100 | G34: PORCENTAJE | H34: Anual | I34: 0 | J34: Caracterización de accidentalidad | K34: 0 | L34: 0 | M34: 0 | W34: https://docs.google.com/spreadsheets/d/1l6nGJpPwax9d347maDYOdF-8giCUxbyn/edit?usp=drive_web&ouid=110331003666022470321&rtpof=true
A35: Talento y Desarrollo Humano | B35: Área Funcional de Talento Humano - SST | C35: Incidencia de la enfermedad laboral | D35: Conocer el número de casos nuevos de enfermedad laboral en el periodo por cada 100.000 trabajadores con el fin de para establecer una línea base y tomar las medidas necesarias para evaluar la mejora continua en el sistema. | E35: Eficacia | F35: (Número de casos nuevos de enfermedad laboral en el periodo “Z” / Promedio de trabajadores en el periodo “Z”) * 100.000 | G35: VALOR ABOLUTO | H35: Anual | I35: 0 | J35: Caracterización de accidentalidad | K35: 0 | L35: 0 | M35: 0 | W35: https://docs.google.com/spreadsheets/d/1l6nGJpPwax9d347maDYOdF-8giCUxbyn/edit?usp=drive_web&ouid=110331003666022470321&rtpof=true
A36: Talento y Desarrollo Humano | B36: Área Funcional de Talento Humano - SST | C36: Prevalencia de la enfermedad laboral | D36: Conocer el número de casos de enfermedad laboral en el periodo por cada 100.000 trabajadores con el fin de establecer una línea base y tomar las medidas necesarias para evaluar la mejora continua en el sistema. | E36: Eficacia | F36: (Número de casos nuevos y antiguos de enfermedad laboral en el periodo “Z” / Promedio de trabajadores en el periodo “Z”) * 100.000 | G36: VALOR ABOLUTO | H36: Anual | I36: 0 | J36: Caracterización de accidentalidad | K36: 0 | L36: 0 | M36: 0 | W36: https://docs.google.com/spreadsheets/d/1l6nGJpPwax9d347maDYOdF-8giCUxbyn/edit?usp=drive_web&ouid=110331003666022470321&rtpof=true
A37: Talento y Desarrollo Humano | B37: Área Funcional de Talento Humano - SST | C37: Ausentismo por causa médica | D37: Conocer en el mes el % de días de trabajo perdidos por incapacidad médica con el fin de establecer una línea base y tomar las medidas necesarias para evaluar la mejora continua en el sistema. | E37: Eficacia | F37: (Número de días de ausencia por incapacidad laboral o común en el mes / Número de días de trabajo programados en el mes ) * 100 * Solo para funcionarios | G37: PORCENTAJE | H37: Mensual | I37: 0 | J37: Novedades de nómina por incapacidad médica de funcionarios. | K37: 0.9% | L37: 0 | M37: 0.4% | W37: https://drive.google.com/drive/folders/1ci6RcufTdvYtFsWZWaCdZOtVN1T6Q-QU | Z37: Para el mes de febrero no se presentaron incapacidades por enfermedad general
A38: Talento y Desarrollo Humano | B38: Área Funcional de Talento Humano | C38: Oportunidad en la vinculación de Funcionarios en los niveles directivo, profesional y asesor. | D38: Establecer la oportunidad en la vinculación del personal que requiere la entidad | E38: Eficacia | F38: (Fecha de nombramiento y posesión - la fecha del requerimiento) promedio por nivel directivo, asesor y profesional. * Días hábiles. | G38: DÍAS | H38: Anual Seguimiento semestral | I38: ≤ 15 días | J38: Matriz de cubrimiento de una vacancia | K38: Directivo: 0 Asesor: 0 Profesional: 10,6 | L38: Directivo: 0 Asesor: 0 Profesional: 0 | M38: Directivo: 7,5 Asesor: 0 Profesional: 1 | W38: https://drive.google.com/drive/folders/15T5azRQctb4W1VYDj_ywGk-LV9AJ6v1_
A39: Gestión Jurídica | B39: Oficina Asesora Jurídica | C39: Oportunidad en la gestión de los procedimientos administrativos (Grupo de Arqueología) | D39: Establecer la oportunidad en la gestión de los procesos administrativos que realiza la Oficina Asesora Jurídica para el Grupo de Arqueología. | E39: Eficacia | F39: (N° de actos administrativos y comunicaciones del Grupo de Arqueología revisados y tramitados por la OAJ de forma oportuna* / Total de actos administrativos y comunicaciones solicitados por el Grupo de Arqueología) x 100 * 5 días. | G39: PORCENTAJE | H39: Semestral | I39: ≥ 85% | J39: Base de actos administrativos y comunicaciones solicitados por el Grupo de Arqueología.
A40: Gestión Jurídica | B40: Oficina Asesora Jurídica | C40: Oportunidad en la emisión de conceptos jurídicos | D40: Establecer la oportunidad en la emisión de conceptos jurídicos solicitados a la Oficina tanto internos como externos. | E40: Eficacia | F40: (Número de solicitudes, derechos de peticion y conceptos emitidos oportunamente*/ total de solicitudes, derechos de peticion y conceptos requeridos) x 100 * Tiempos de ley acorde a la solicitud. | G40: PORCENTAJE | H40: Semestral | I40: ≥ 85% | J40: Base de solicitudes, derechos de petición y conceptos
...

Sheet Consolidado sept-23
A1: PROCESO | B1: RESULTADO | L1: CUMPLE | M1: NO CUMPLE | N1: NO SE MIDIO | O1: EN TÉRMINOS | P1: TOTAL
A2: Direccionamiento Estratégico y Planeación | B2: Oportunidad en la formulación de planes estratégicos. | C2: Eficacia en la implementación de los planes institucionales
B3: No | C3: No | M3: 2 | P3: =SUM(L3:O3) -> 2
A4: Articulación y Cooperación Interinstitucional | B4: Avance de las alianzas de cooperación formalizadas | C4: Cobertura temática de la Cooperación
B5: No se midió | C5: En Términos (Anual) | N5: 1 | O5: 1 | P5: =SUM(L5:O5) -> 2
A6: Gestión del Patrimonio Arqueológico | B6: Oportunidad en la gestión de Hallazgos fortuitos | C6: Oportunidad en la gestión del Programa de Arqueologia Preventiva.
B7: Si | C7: Si | L7: 2 | P7: =SUM(L7:O7) -> 2
A8: Investigación y Publicación | B8: Calidad de los manuscritos recibidos | C8: Gestión del Plan Editorial | D8: Distribución y visibilidad de la Librería | E8: Ventas realizadas en los eventos feriales | F8: Acogida de las investigaciones y publicaciones del ICANH
B9: No se midió | C9: No se midió | D9: No se midió | E9: No se midió | F9: No | M9: 1 | N9: 4 | P9: =SUM(L9:O9) -> 5
A10: Participación, Diálogo Social y Relacionamiento con el Ciudadano | B10: Volumen de consultas | C10: Satisfacción del servicio de biblioteca especializada | D10: Oportunidad en la atención al ciudadano (PQRSDF) | E10: Satisfacción de los grupos de valor e interés en la atención a servicios. | F10: Satisfacción de los grupos de valor e interés en los espacios de participación ejecutados (agilicen, simplifiquen y flexibilicen) | P10: =SUM(L10:O10) -> 0
B11: Si | C11: Si | D11: Si | E11: Si | F11: No se midió | L11: 4 | N11: 1 | P11: =SUM(L11:O11) -> 5
A12: Comunicaciones | B12: Oportunidad en la atención a los requerimientos recibidos | C12: Alcance de las publicaciones en la sede electrónica. | D12: Satisfacción en las solicitudes de comunicaciones atendidas | P12: =SUM(L12:O12) -> 0
B13: Si | C13: Si | D13: No se midió | L13: 2 | N13: 1 | P13: =SUM(L13:O13) -> 3
A14: Talento y Desarrollo Humano | B14: Satisfacción en el plan de bienestar. | C14: Satisfacción en el plan de capacitación. | D14: Calidad en la liquidación de la nómina de la entidad. | E14: Frecuencia de la accidentalidad | F14: Severidad de la accidentalidad | G14: Ausentismo por causa médica | H14: Oportunidad en la vinculación | I14: Proporción de accidentes mortales | J14: Incidencia de la enfermedad laboral | K14: Prevalencia de la enfermedad laboral | P14: =SUM(L14:O14) -> 0
B15: No | C15: No se midió | D15: Si | E15: No | F15: No | G15: Si | H15: No se midió | I15: En Términos (Anual) | J15: En Términos (Anual) | K15: En Términos (Anual) | L15: 2 | M15: 3 | N15: 2 | O15: 3 | P15: =SUM(L15:O15) -> 10
A16: Gestión Administrativa y Logística | B16: Eficiencia en el programa de seguros de la entidad | C16: Oportunidad en el mantenimiento de la infraestructura física de la entidad | D16: Oportunidad en la gestión del PIGA | E16: Gestión de residuos generados por la entidad | F16: Gestión en el consumo de recursos (agua y luz) | G16: Gestión de Inventarios | P16: =SUM(L16:O16) -> 0
B17: Si | C17: Si | D17: No | E17: No se midió | F17: No se midió | G17: Si | L17: 3 | M17: 1 | N17: 2 | P17: =SUM(L17:O17) -> 6
A18: Gestión Financiera | B18: Gestión Presupuestal | C18: Control del gasto de recursos propios | D18: Gestion PAC | E18: Gestión contable | P18: =SUM(L18:O18) -> 0
B19: Si | C19: Si | D19: Si | E19: Si | L19: 4 | P19: =SUM(L19:O19) -> 4
A20: Gestión de Tecnologías de la Información | B20: Funcionamiento efectivo de las plataformas y sistemas de información | C20: Implementación y gestión del PETIC | P20: =SUM(L20:O20) -> 0
B21: Si | C21: No | L21: 1 | M21: 1 | P21: =SUM(L21:O21) -> 2
A22: Gestión Contractual | B22: Oportunidad en la gestión contractual | P22: =SUM(L22:O22) -> 0
B23: Si | L23: 1 | P23: =SUM(L23:O23) -> 1
A24: Gestión Documental y Correspondencia | B24: Oportunidad en la Gestión de correspondencia | C24: Cumplimiento en las transferencias programadas | P24: =SUM(L24:O24) -> 0
B25: Si | C25: Si | L25: 2 | P25: =SUM(L25:O25) -> 2
A26: Evaluación y Control | B26: Efectividad de los controles del Sistema de Control Interno | C26: Cumplimiento oportuno de las actividades del plan integral | P26: =SUM(L26:O26) -> 0
B27: Si | C27: Si | L27: 2 | P27: =SUM(L27:O27) -> 2
A28: Gestión Jurídica | B28: Oportunidad en la gestión de los procedimientos administrativos (Grupo de Arqueología) | C28: Oportunidad en la emisión de conceptos jurídicos | D28: Gestión de la Oficina Asesora Jurídica en cuanto a la gestión de la política de prevención del daño antijuridico (PPDA) | P28: =SUM(L28:O28) -> 0
B29: Si | C29: Si | D29: Si | L29: 3 | P29: =SUM(L29:O29) -> 3
A30: Control Disciplinario | B30: Percepción por parte de los servidores de la entidad de la estrategia de apropiación del régimen disciplinario | C30: Oportunidad en la gestión de las etapas del proceso disciplinario | P30: =SUM(L30:O30) -> 0
B31: No se midió | C31: Si | L31: 1 | N31: 1 | P31: =SUM(L31:O31) -> 2
A32: Mejoramiento Continuo | B32: Desempeño Institucional | C32: Eficacia del Sistema de Gestión | P32: =SUM(L32:O32) -> 0
B33: En términos | C33: En términos | O33: 2 | P33: =SUM(L33:O33) -> 2
L35: =SUM(L1:L33) -> 27 | M35: =SUM(M1:M33) -> 8 | N35: =SUM(N1:N33) -> 12 | O35: =SUM(O1:O33) -> 6 | P35: =SUM(P1:P33) -> 53
C37: Cumplen | D37: =+L35 -> 27 | E37: =+D37/$D$41 -> 0.50943396
C38: No se midió | D38: =+N35 -> 12 | E38: =+D38/$D$41 -> 0.22641509
C39: No cumplen | D39: =+M35 -> 8 | E39: =+D39/$D$41 -> 0.1509434
C40: En Términos | D40: 6 | E40: =+D40/$D$41 -> 0.11320755
D41: =SUM(D37:D40) -> 53

Sheet Control de Cambios
A1: CONTROL DE CAMBIOS DE INDICADORES DE GESTIÓN
A2: PROCESO | B2: ÁREA RESPONSABLE | C2: NOMBRE DEL INDICADOR | D2: CAMBIO REALIZADO | E2: FECHA
A3: Articulación y Cooperación Interinstitucional | B3: Dirección General | C3: Avance de las alianzas de cooperación formalizadas | D3: En reunión con la dirección y las subdirecciones técnicas se solicitó ajustar la frecuencia y fórmula del indicador para un mejor resultado, se consideró semestral muy lejano para tomar decisiones. | E3: 45124
A4: Direccionamiento Estratégico y Planeación | B4: Oficina Asesora de Planeación | C4: Oportunidad en la formulación de planes estratégicos. | D4: La frecuencia de medición pasa de ser trimestral a ser anual dado que solo se formulan una única vez. | E4: 45168
A5: Direccionamiento Estratégico y Planeación | B5: Oficina Asesora de Planeación | C5: Cumplimiento de la ejecución presupuestal | D5: En revisión por el Jefe de la OAP se solicita eliminar porque ya se encuentran mapeados en el proceso Financiero | E5: 45168
A6: Direccionamiento Estratégico y Planeación | B6: Oficina Asesora de Planeación | C6: Cumplimiento de la ejecución presupuestal | D6: En revisión por el Jefe de la OAP se solicita eliminar porque ya se encuentran mapeados en el proceso Financiero | E6: 45168
A7: Gestión Contractual | B7: Área funcional de gestión de Contratos y Convenios | C7: Eficacia en la Gestión Contractual | D7: Por solicitud mediante correo de la nueva líder del proceso se elimina dicho indicador ya que se considera no agrega valor al proceso | E7: 45161
A8: Investigación y Publicación | B8: Área Funcional de Publicaciones | C8: Publicaciones Finalizadas. | D8: Por solicitud mediante correo se solicita eliminar este indicador indicador ya que no se ajusta al proceso de planeación de las publicaciones en el año 2023. | E8: 45183
A9: Investigación y Publicación | B9: Área Funcional de Publicaciones | C9: Calidad de los manuscritos recibidos | D9: Por solicitud mediante correo se solicita cambiar el nombre y enfoque del indicador de aprobación a calidad de manuscritos. | E9: 45183
A10: Investigación y Publicación | B10: Área Funcional de Publicaciones | C10: Gestión del Plan Editorial | D10: Por solicitud mediante correo se solicita incluir este indicador para medir todo el proceso editorial. | E10: 45183
A11: Investigación y Publicación | B11: Área Funcional de Publicaciones | C11: Distribución y visibilidad de la Librería | D11: Por solicitud mediante correo se solicita cambiar el nombre y enfoque del indicador. | E11: 45183
A12: Investigación y Publicación | B12: Área Funcional de Publicaciones | C12: Ventas realizadas en los eventos feriales | D12: Por solicitud mediante correo se solicita cambiar el nombre y enfoque del indicador. | E12: 45183
A13: Talento y Desarrollo Humano | B13: Área Funcional de Talento Humano | C13: Satisfacción en el plan de bienestar. Satisfacción en el plan de capacitación | D13: Se continúa con los indicadores de satisfacción tanto de capacitación como de bienestar pero bajo una única encuesta anual para cada uno que permita no solo conocer la satisfacción general de los asistentes frente a dichos planes sino el número de asistencia a cada tema frente al total de la población de la entidad. | E13: 45230
A14: Talento y Desarrollo Humano | B14: Área Funcional de Talento Humano | C14: Calidad en la liquidación de la nómina de la entidad. | D14: La meta del indicador de nómina se cambia de ≥ 90% al 100% ya que en este tema un error implica una inadecuada gestión y obligaría así a planes de acción más contundentes sin importar como tal el número de errores. | E14: 45230
... A70: Gestión Administrativa y Logística | B70: Secretaría General | C70: Gestión de inventarios | D70: Según reunión sostenida con la delegada de la Secretaría General se ajusta el indicador en cuanto a: Objetivo del indicador de "Establecer la pérdida o daño en los activos de la entidad" a "Establecer la gestión de las áreas frente al resultado de los inventarios ejecutados por el área de almacén". Tipo: De eficacia a estadística y meta de 0 a no aplica. | E70: 45909

Sheet Cooperación - Dirección
A1: MATRIZ DE INDICADORES DE GESTIÓN ICANH AÑO 2025 | K1: MEDICIÓN DEL INDICADOR (RESULTADO) | X1: SEGUIMIENTO Y ANÁLISIS LÍDER DE PROCESO O DELEGADO | Z1: OFICINA ASESORA DE PLANEACIÓN
A2: PROCESO | B2: ÁREA RESPONSABLE | C2: NOMBRE DEL INDICADOR | D2: OBJETIVO DEL INDICADOR | E2: TIPO DE INDICADOR | F2: FÓRMULA | G2: UNIDAD DE MEDIDA | H2: FRECUENCIA DE MEDICIÓN | I2: META | J2: FUENTE | K2: Enero | L2: Febrero | M2: Marzo | N2: Abril | O2: Mayo | P2: Junio | Q2: Julio | R2: Agosto | S2: Septiembre | T2: Octubre | U2: Noviembre | V2: Diciembre | W2: RUTA DE EVIDENCIA | X2: Fecha del seguimiento | Y2: Observaciones - Análisis del resultado Se debe describir el análisis de la cifra que se coloca en la medición, la idea es evaluar el desempeño, identificar tendencias y tomar decisiones, determinando la evolución del indicador o variable a lo largo del tiempo, así como los principales aspectos a resaltar (positivos y oportunidades de mejora) así como las acciones que se realizan para lograr mantener y/o mejorar dicho resultado en busca del logro de la meta establecida. | Z2: Cumple la meta establecida | AA2: Fecha del seguimiento | AB2: Observaciones
A3: Articulación y Cooperación Interinstitucional | B3: Dirección General | C3: Avance de las alianzas de cooperación formalizadas | D3: Conocer el avance de los convenios o alianzas de cooperación formalizadas en el instituto. | E3: Eficacia | F3: (# mesas, reuniones o seguimientos ejecutados de forma articulada* / # mesas, reuniones o seguimientos planeadas) x 100 por convenio y por subdirección. * Donde participen las tres subdirecciones y la dirección (mínimo 4 al año). * Indicador acumulado | G3: PORCENTAJE | H3: Trimestral | I3: ≥ 90% SOBRESALIENTE > 85% ACEPTABLE ≤ 70% DEFICIENTE | J3: Cuadro excel - Convenios por Subdirección con evidencias de las reuniones o seguimientos tales como acta, grabación, memoria o lista de asistencia de las reuniones/seguimientos/mesas técnicas ejecutadas. | M3: 0.25 | P3: 0.5 | S3: 0.75 | V3: 1 | W3: https://drive.google.com/drive/folders/1gzE760ANOwzL0WylMMX4sPdKZvZ4tkfU?usp=drive_link | X3: 46014 | Y3: Se realizó la cuarta y última mesa de seguimiento de Alianzas y Convenios del ICANH, de igual forma se ha actualizado la tabla general de Alianzas y Convenios y el procedimiento general. | Z3: Si | AA3: 46036 | AB3: Si bien las reuniones se ejecutan no exactamente en cada trimestre, pero se ejecutan sin embargo el análisis no es suficiente para evidenciar que la articulación mediante este tipo de reuniones permitió la solución de inconvenientes o mejoras u otros aspectos que puedan soportar que este tipo de seguimientos colaboran a un mejor desempeño del proceso.
A4: Articulación y Cooperación Interinstitucional | B4: Dirección General | C4: Cobertura temática de la Cooperación | D4: Determinar la cobertura de las acciones de cooperación formalizadas frente a las temáticas requeridas por la entidad. | E4: Efectividad | F4: (Temáticas abordadas en la alianza o cooperación / total de temáticas institucionales*) x 100 * Objetivos Estratégicos. | G4: PORCENTAJE | H4: Semestral | I4: Anual ≥ 90% SOBRESALIENTE > 85% ACEPTABLE ≤ 70% DEFICIENTE | J4: Cuadro excel - Convenios por Subdirección identificando el OE al cual aporta. | P4: 0.83 | V4: 1 | W4: https://docs.google.com/spreadsheets/d/1pPjZBj4iaGQ1PGxFb-JSyB_d63PHoiOQierpQ9eQSNM/edit?usp=drive_link | X4: 45947 | Y4: Se hace una revisión de la tabla de Alianzas y convenios y se identifica que efectivamente todos los objetivos estratégicos del ICANH están relacionados con al menos una alianza. | Z4: Si | AA4: 46036 | AB4: Si bien se dio el cubrimiento de todos los OE de la entidad llegando al máximo de la meta establecida es importante ahondar en el análisis el cual no es suficiente para evidenciar qué fue lo que permitió conocer este cubrimiento, que solución de inconvenientes o mejoras u otros aspectos que puedan soportar que este tipo de mediciones colaboran a un mejor desempeño del proceso.
A5: =COUNTA(A3:A4) -> 2
A7: =A5+Planeación!A7+'Gestión Financiera'!A6+'Gestión del TH'!A9+'Gestión Contractual'!A7+'Gestión Admon y Logística'!A7+'Gestión TI'!A6+'Gestión Documental y Corresp'!A7+'Gestión Jurídica'!A6+'Evaluación y Control'!A5+'Control Disciplinario'!A7+'Gestión Patrimonio'!A10+'Investigación y Publicación'!A9+'Apropia y Relacionamiento C'!A12 -> 61

Sheet Planeación
A1: MATRIZ DE INDICADORES DE GESTIÓN ICANH AÑO 2025 | K1: MEDICIÓN DEL INDICADOR (RESULTADO) | X1: SEGUIMIENTO Y ANÁLISIS LÍDER DE PROCESO O DELEGADO | Z1: OFICINA ASESORA DE PLANEACIÓN
A2: PROCESO | B2: ÁREA RESPONSABLE | C2: NOMBRE DEL INDICADOR | D2: OBJETIVO DEL INDICADOR | E2: TIPO DE INDICADOR | F2: FÓRMULA | G2: UNIDAD DE MEDIDA | H2: FRECUENCIA DE MEDICIÓN | I2: META | J2: FUENTE | K2: Enero | L2: Febrero | M2: Marzo | N2: Abril | O2: Mayo | P2: Junio | Q2: Julio | R2: Agosto | S2: Septiembre | T2: Octubre | U2: Noviembre | V2: Diciembre | W2: RUTA DE EVIDENCIA | X2: Fecha del seguimiento | Y2: Observaciones - Análisis del resultado Se debe describir el análisis de la cifra que se coloca en la medición, la idea es evaluar el desempeño, identificar tendencias y tomar decisiones, determinando la evolución del indicador o variable a lo largo del tiempo, así como los principales aspectos a resaltar (positivos y oportunidades de mejora) así como las acciones que se realizan para lograr mantener y/o mejorar dicho resultado en busca del logro de la meta establecida. | Z2: Cumple la meta establecida | AA2: Fecha del seguimiento | AB2: Observaciones
A3: Direccionamiento Estratégico y Planeación | B3: Oficina Asesora de Planeación | C3: Eficacia de los planes institucionales. | D3: Medir la gestión de los planes institucionales en cada una de sus etapas con el fin de terminar tanto la oportunidad en la formulación y publicación como la eficacia en la ejecución y seguimiento de los mismos. | E3: Eficacia | F3: Formulación: 15% Publicación: 15% Ejecución: 50 (12.5 por trimestre) Seguimiento: 20 (5 por trimestre | G3: PORCENTAJE | H3: Trimestral Acumulado | I3: Anual > 95% SOBRESALIENTE > 90% ACEPTABLE | J3: https://docs.google.com/spreadsheets/d/1DVVimCqTqzSqcMq9hLeZeF3fhDBygDQW/edit?gid=2100346286#gid=2100346286 | M3: 0.38 | P3: 0.49 | S3: 0.6 | V3: 0.74 | W3: Tablero de control: https://docs.google.com/spreadsheets/d/1DVVimCqTqzSqcMq9hLeZeF3fhDBygDQW/edit?gid=2100346286#gid=2100346286 Soportes de publicación: https://drive.google.com/drive/folders/1USRZoj_eZRTdvXYtBuuAT4Rr182laRVk?usp=drive_link | X3: 45947 | Y3: Si bien este indicador tiene por frecuencia de medición los trimestres de la vigencia se considera relevante informar que con corte al 31 de enero de 2025 los planes institucionales cumplieron con la oportunidad en su formulación y publicación. Lo anterior implica que se ha cumplido con el 30% de dichos aspectos, en los próximos cortes de medición se dará cuenta de su ejecución y seguimiento. Para el tercer trimestre, el indicador alcanzó un 60% de cumplimiento acumulado, evidenciando un avance progresivo respecto a la ejecución de los planes institucionales de los trimestres anteriores. El incremento se asocia, principalmente a la mejora en la ejecución de los planes institucionales, especialmente en aquellos que habían presentado rezagos en periodos anteriores. Se destacan los avances en los planes del Área Funcional de Tecnologías y Sistemas de Información (PETIC y PESI), Plan Institucional de Archivos (PINAR) y Seguridad y Salud en el Trabajo. No obstante, aún se identifican brechas en la ejecución oportuna de algunos planes, los cuales afectan de forma directa la eficacia global del indicador, dado que cada plan contribuye de manera ponderada a la meta consolidada institucional. Para el seguimiento al correspondinte al 4° trismestre 2025, no se ha podido adelantar el seguimiento puesto que no se cuenta con los respectivos reportes de avance entregado por los procesos y areas responsables.(pendiente) | Z3: Si | AA3: 46055 | AB3: Es importante contar con la información completa dentro de los plazos establecidos para poder realizar un análisis de mayor precisión, con la cifra de un 79% de avance implica que el cumplimiento en general de los planes institucionales se encuentra en un nivel de aceptable, especialmente en la etapa de ejecución y seguimiento, importante gestionar con el proceso de TH las estrategias para mejorar lo pertinente.
A4: Direccionamiento Estratégico y Planeación | B4: Oficina Asesora de Planeación | C4: Seguimiento a la programación presupuestal | D4: Medir la ejecución de los recursos frente a lo programado con el propósito de identificar desviaciones para tomar las medidas necesarias y encauzar el rumbo previsto en la planificación del presupuesto. | E4: Eficacia | F4: (Valor comprometido / Valor programado) x 100 | G4: PORCENTAJE | H4: Acumulado trimestral | I4: ≥ 95% SOBRESALIENTE > 85% ACEPTABLE ≤ 85% DEFICIENTE | J4: Programación ppto frente a ejecución de compromisos en SIIF | M4: 99.8% | P4: 0.899 | S4: 0.89 | V4: 0.98 | W4: https://drive.google.com/drive/folders/1JUyvQ4ZP_x66ikoomO577t_ZAsfGDTh7?usp=drive_link | X4: 46043 | Y4: Durante el cuarto trimestre el indicador del cumplimento de ejecución alcanzó un nivel del 98%, lo que representa un desempeño sobresaliente superando la meta, con este cumplimiento se puede deducir que el Instituto ha cumplido la programación presupuestal, lo que permite que la ejecución de los recursos cumpla con el objetivo el cumplimiento de las metas misionales y el normal funcionamiento de la entidad, no hay un cumplimiento del 100% por la restriccion de compromisos con recursos propios por un menor recaudo a lo proyectado y los sobrantes de saldos de apropiacion Meta compromisos: 100% Cumplimiento de compromisos: 98% Resultado: 98% | Z4: Si
A5: Mejoramiento Continuo | B5: Oficina Asesora de Planeación | C5: Desempeño Institucional | D5: Determinar el grado de cumplimiento de la entidad frente a los requisitos establecidos por el MIPG. | E5: Eficacia | F5: Puntaje obtenido en FURAG vigencia actual | G5: NUMÉRICO | H5: Anual | I5: ≥ 90 puntos SOBRESALIENTE entre 80 y 89 puntos ACEPTABLE ≤ 80 puntos DEFICIENTE | J5: DAFP resultados FURAG vigencia | Q5: 81 | W5: https://docs.google.com/spreadsheets/d/1MEadDreoQX_ARBU52kppgY8sngBGzbQ-/edit?usp=drive_link&ouid=115818046596527104393&rtpof=true&sd=true | X5: 45846 | Y5: Se evidencia el resultado del IDI de 81 puntos bajando en 4.5 con respecto al año 2023 con lo cual a pesar de quedar en un resultado aceptable no se logró mantener ni mejorar con respecto a la vigencia anterior. Adelantado a este resultado y con el análisis realizado previamente por la OAP se están trabajando tres políticas con mejoras formales que se encuentran en proceso de ejecución desde el mes de mayo con los responsables de las políticas de SDI, DGI y TRA. Adicionalmente la OAP tomó el liderazgo de la política de GCI con el fin de llevar a cabo la implementación de ésta lo cual debe reflejarse junto con los planes de mejora en un mejor puntaje de las mismas que ayudará a subir el puntaje total del IDI. | Z5: Si | AA5: 46036 | AB5: Las políticas de Gestión del Conocimiento e Innovación y Mejora Normativa.que se encontraban en implementación finalizaron esta fase al 100% lo cual se espera ayude a subir el puntaje final de FURAG para la vigencia 2025.
A6: Mejoramiento Continuo | B6: Oficina Asesora de Planeación | C6: Eficacia del Sistema de Gestión (frente a MIPG) | D6: Determinar las políticas que requieren refuerzo específico frente a los resultados y las metas establecidas | E6: Eficacia | F6: (# políticas con puntaje sobresaliente y aceptable/ total de políticas de la vigencia) x 100 | G6: PORCENTAJE | H6: Anual | I6: > 85% SOBRESALIENTE Entre 75% y 85% ACEPTABLE < 75% DEFICIENTE | J6: DAFP resultados FURAG vigencia | Q6: =10/18 -> 0.55555556 | W6: https://docs.google.com/spreadsheets/d/1MEadDreoQX_ARBU52kppgY8sngBGzbQ-/edit?usp=drive_link&ouid=115818046596527104393&rtpof=true&sd=true | X6: 45846 | Y6: De las 18 políticas que aplican actualmente al ICANH 8 tuvieron un puntaje sobresaliente y 2 un puntaje aceptable para un total de 10 lo que genera un resultado de 10/18= 56% de las políticas con puntaje adecuado. * Políticas con calificación"SOBRESALIENTE" por encima de 85 puntos Participación Ciudadana en la Gestión Pública, Servicio a las ciudadanías, Defensa Jurídica, Planeación Institucional, Seguimiento y Evaluación del Desempeño Institucional, Fortalecimiento Organizacional y Simplificación de Procesos, Transparencia, Acceso a la Información y lucha contra la Corrupción, Compras y Contratación Pública. * Políticas con calificación"ACEPTABLE" entre 75 y hasta 84 puntos Control Interno y Gestión Información Estadística, en cuanto a GES existen bastantes puntos que la entidad no logrará mejorar dada la inversión de recursos que implica y en otros casos las preguntas no aplican de algunos criterios con los que se sigue midiendo a entidades como el ICANH. La política de CIN depende de la ejecución de los demás procesos, sin embargo se revisarán las acciones puntuales a implementar que dependan directamente de la OCI o que se puedan mejorar de forma transversal. * Políticas con calificación "DEFICIENTE" por debajo de 75 puntos Gobierno Digital, Gestión del Conocimiento, Seguridad Digital, Racionalización de Trámites, Gestión Documental, Gestión Estratégica del Talento Humano, Integridad, Gestión Presupuestal y Eficiencia del Gasto Público. En cuanto a las acciones a implementar se observa SDI y GDI ya cuentan con plan de mejora, la política GCI se encuentra en implementación finalizando esta fase esta vigencia, RTR debe formalizar la mejora propuesta de la implementación de la ventanilla única y formalización en el SUIT de los trámites como son PAP y Hallazgos Fortuitos, en cuanto a la GPR es una política con respuestas automáticas del MIN HACIENDA y el tema del la reserva presupuetal que también influyó en el resultado. Frente a la GDO, GTH e INT se revisará puntualmente con el responsable del proceso las acciones que debe implementar como mejoras para lo que resta de este semestre. | Z6: No | AA6: 46036 | AB6: MEJORA 5 Políticas entraron en fase de plan de mejora por su bajo puntaje en FURAG con el siguiente resultado en la implementación de acciones a 31 de diciembre del 2025, la delegada de TH entregó nueva información el 09-01-2025 la cual se está analizando para evidenciar si es suficiente y adecuada para subir los puntajes con los que cerraron en 2025. En cuanto a TI y GDO se espera recibir documentación para el primer comite de enero y saber si el puntaje puede subir. GTH = 42% INT= 75% GDO= 88% GDI-SDI= 98% Con este resultado se espera subir el puntaje final en FURAG aunque no en los puntos esperados debido a que no se cumplió el 100% de las activiades de cada plan.
A7: =COUNTA(A3:A6) -> 4

Sheet Gestión Financiera
A1: MATRIZ DE INDICADORES DE GESTIÓN ICANH AÑO 2025 | K1: MEDICIÓN DEL INDICADOR (RESULTADO) | X1: SEGUIMIENTO Y ANÁLISIS LÍDER DE PROCESO O DELEGADO | Z1: OFICINA ASESORA DE PLANEACIÓN
A2: PROCESO | B2: ÁREA RESPONSABLE | C2: NOMBRE DEL INDICADOR | D2: OBJETIVO DEL INDICADOR | E2: TIPO DE INDICADOR | F2: FÓRMULA | G2: UNIDAD DE MEDIDA | H2: FRECUENCIA DE MEDICIÓN | I2: META | J2: FUENTE | K2: Enero | L2: Febrero | M2: Marzo | N2: Abril | O2: Mayo | P2: Junio | Q2: Julio | R2: Agosto | S2: Septiembre | T2: Octubre | U2: Noviembre | V2: Diciembre | W2: RUTA DE EVIDENCIA | X2: Fecha del seguimiento | Y2: Observaciones - Análisis del resultado Se debe describir el análisis de la cifra que se coloca en la medición, la idea es evaluar el desempeño, identificar tendencias y tomar decisiones, determinando la evolución del indicador o variable a lo largo del tiempo, así como los principales aspectos a resaltar (positivos y oportunidades de mejora) así como las acciones que se realizan para lograr mantener y/o mejorar dicho resultado en busca del logro de la meta establecida. | Z2: Cumple la meta establecida | AA2: Fecha del seguimiento | AB2: Observaciones
A3: Gestión Financiera | B3: Área Funcional Presupuesto | C3: Seguimiento de Compromisos Presupuestales | D3: Cuantificar la ejecución de la gestión presupuestal en cuanto a compromisos | E3: Eficacia | F3: (Monto de compromisos inversión / total de apropiación de inversión) x 100 (Monto de compromisos funcionamiento / total de apropiación funcionamiento) x 100 | G3: PORCENTAJE | H3: Anual Seguimiento mensual | I3: A Diciembre ≥ 97% | J3: Reporte de ejecución (SIIF) | K3: 29%INV 16% FUN | L3: 45%INV 18% FUN | M3: 50%INV 21% FUN | N3: 54%INV 24% FUN | O3: 66%INV 28% FUN | P3: 71%INV 32% FUN (CON $ REDIS) 61% FUN (SIN $ REDIS) | Q3: 76%INV 37% FUN (CON $ REDIS) 67% FUN (SIN $ REDIS) | R3: 81%INV 41% FUN (CON $ REDIS) 74% FUN (SIN $ REDIS) | S3: 87%INV 44% FUN (CON $ REDIS) 79% FUN (SIN $ REDIS) | T3: 88%INV 46% FUN (CON $ REDIS) 80% FUN (SIN $ REDIS) | U3: 90%INV 49% FUN (CON $ REDIS) 83% FUN (SIN $ REDIS) | V3: 99% INV 96% FUN | W3: https://drive.google.com/drive/folders/1epe_KRrZi4A0ms9MgsWEq5ImFdUvWjMJ?usp=drive_link | X3: 46022 | Y3: Se dió cumplimiento a la meta de compromisos en inversión, en cuanto a funcionamiento no se cumplió la meta aunque se registro un nivel considerable de registros presupuestales. | Z3: No | AA3: 46048 | AB3: Si bien en promedio la ejecución de la gestión presupuestal en su conjunto se cumple con la meta en un 98% y específicamente también se cumple en la desagregación de inversión, no sucede lo mismo conla meta para funcionamiento cuyo resultados mes a mes fue muy bajo para finalmente no cumplirse al cierre del año y no se osbervan acciones o estrategias específicas dentro del análisis, especialmente con corte al primer semestre que lleven al proceso, en conjunto con otros, a haber logrado la meta o una calificación aceptable para funcionamiento.
